View In:
ArcGIS JavaScript
ArcGIS Online Map Viewer
ArcGIS Earth
Service Description: Imagery/Fidalgo20116Inch
Name: Imagery/Fidalgo20116Inch
Description:
Single Fused Map Cache: false
Extent:
XMin: 1186792.6262112423
YMin: 522790.90113075776
XMax: 1234361.6262112423
YMax: 560229.9011307578
Spatial Reference: 102748
(2285)
LatestVCSWkid(0)
Initial Extent:
XMin: 1186792.6262112423
YMin: 522790.90113075776
XMax: 1234361.6262112423
YMax: 560229.9011307578
Spatial Reference: 102748
(2285)
LatestVCSWkid(0)
Full Extent:
XMin: 1186792.6262112423
YMin: 522790.90113075776
XMax: 1234361.6262112423
YMax: 560229.9011307578
Spatial Reference: 102748
(2285)
LatestVCSWkid(0)
Pixel Size X: 0.5
Pixel Size Y: 0.5
Band Count: 3
Pixel Type: U8
RasterFunction Infos: {"rasterFunctionInfos": [{
"name": "None",
"description": "",
"help": ""
}]}
Mensuration Capabilities: Basic
Inspection Capabilities:
Has Histograms: true
Has Colormap: false
Has Multi Dimensions : false
Rendering Rule:
Min Scale: 0
Max Scale: 0
Resampling: false
Copyright Text:
Service Data Type: esriImageServiceDataTypeRGB
Min Values: 0, 0, 0
Max Values: 237, 238, 221
Mean Values: 49.787997675094, 63.940714908457, 42.126707352514
Standard Deviation Values: 54.397721748668, 64.945813610753, 44.538476570953
Object ID Field:
Fields:
None
Default Mosaic Method: Center
Allowed Mosaic Methods:
SortField:
SortValue: null
Mosaic Operator: First
Default Compression Quality: 75
Default Resampling Method: Bilinear
Max Record Count: null
Max Image Height: 4100
Max Image Width: 15000
Max Download Image Count: null
Max Mosaic Image Count: null
Allow Raster Function: true
Allow Copy: true
Allow Analysis: true
Allow Compute TiePoints: false
Supports Statistics: false
Supports Advanced Queries: false
Use StandardizedQueries: true
Raster Type Infos:
Name: Raster Dataset
Description: Supports all ArcGIS Raster Datasets
Help:
Has Raster Attribute Table: false
Edit Fields Info: null
Ownership Based AccessControl For Rasters: null
Child Resources:
Info
Histograms
Statistics
Key Properties
Legend
Raster Function Infos
Supported Operations:
Export Image
Identify
Measure
Compute Histograms
Compute Statistics Histograms
Get Samples
Compute Class Statistics
Query Boundary
Compute Pixel Location
Compute Angles
Validate
Project